BEGIN:VCALENDAR
VERSION:2.0
PRODID:-//TheHUB Online - ECPv5.4.0.1//NONSGML v1.0//EN
CALSCALE:GREGORIAN
METHOD:PUBLISH
X-WR-CALNAME:TheHUB Online
X-ORIGINAL-URL:https://thehub.t1.net.au
X-WR-CALDESC:Events for TheHUB Online
BEGIN:VTIMEZONE
TZID:Australia/Melbourne
BEGIN:STANDARD
TZOFFSETFROM:+1100
TZOFFSETTO:+1000
TZNAME:AEST
DTSTART:20190406T160000
END:STANDARD
BEGIN:DAYLIGHT
TZOFFSETFROM:+1000
TZOFFSETTO:+1100
TZNAME:AEDT
DTSTART:20191005T160000
END:DAYLIGHT
END:VTIMEZONE
BEGIN:VEVENT
DTSTART;TZID=Australia/Melbourne:20190823T173000
DTEND;TZID=Australia/Melbourne:20190906T170000
DTSTAMP:20260425T122714
CREATED:20190426T210719Z
LAST-MODIFIED:20190812T195202Z
UID:1514-1566581400-1567789200@thehub.t1.net.au
SUMMARY:NEDIF 2019 - North East Digital Innovation Festival
DESCRIPTION:The North East Digital Innovation Festival or NEDIF\, now it its 3rd year\, is a festival run to discover and celebrate local Innovation in the North Eastern Victoria and NSW Riverina region as well as to explore what is emerging in the Digital Innovation space globally. \nThe festival which is run to coincide with the Victorian DIF event (23rd August to 6th September) will include a number of workshops and speakers throughout the region and culminate in an Innovation Summit and EXPO in Wodonga (4th September) and some other excellent events including Blockchain in Viticulture and Smart Foods events in Wangaratta (5th and 6th September respectively). \nWant to get involved? If you are interested in hosting an event\, or speaking at one of the regional workshops\, please contact us on 02 6051 56567.
URL:https://thehub.t1.net.au/event/nedif2019/
CATEGORIES:NEDIF,NEDIF 2019
ATTACH;FMTTYPE=image/png:https://thehub.t1.net.au/wp-content/uploads/2019/03/NEDIF2019temp.png
END:VEVENT
END:VCALENDAR