BEGIN:VCALENDAR
VERSION:2.0
PRODID:-//TheHUB Online - ECPv5.4.0.1//NONSGML v1.0//EN
CALSCALE:GREGORIAN
METHOD:PUBLISH
X-WR-CALNAME:TheHUB Online
X-ORIGINAL-URL:https://thehub.t1.net.au
X-WR-CALDESC:Events for TheHUB Online
BEGIN:VTIMEZONE
TZID:Australia/Melbourne
BEGIN:STANDARD
TZOFFSETFROM:+1100
TZOFFSETTO:+1000
TZNAME:AEST
DTSTART:20190406T160000
END:STANDARD
BEGIN:DAYLIGHT
TZOFFSETFROM:+1000
TZOFFSETTO:+1100
TZNAME:AEDT
DTSTART:20191005T160000
END:DAYLIGHT
END:VTIMEZONE
BEGIN:VEVENT
DTSTART;TZID=Australia/Melbourne:20190904T100000
DTEND;TZID=Australia/Melbourne:20190904T150000
DTSTAMP:20260425T123241
CREATED:20190705T021908Z
LAST-MODIFIED:20190825T024820Z
UID:1690-1567591200-1567609200@thehub.t1.net.au
SUMMARY:NEDIF 2019 - Business Technology EXPO
DESCRIPTION:On the 4th September Regional Business Hubs and Business Wodonga are planning to bring together some local businesses to exhibit so that visitor may see what is available to help operate and grow their business in an increasingly online\, digital\, and global economy. \nThis event is being run in conjunction with the 3rd Annual Innovation EXPO\, which is planned to be run on Wednesday 4th September\, is open to the public and will include a number of exhibitors and demonstrations including 3D printing\, robotics\, drones\, AgSmart Farming\, the Internet of Things (IoT) and Smart Cities. \nCome along to The Cube in Wodonga between 10:00am and 3:00pm to meet with these organisations and learn more about how to apply the latest in Digital and Cloud technologies for your business including: \n\nCyber Security & Malware protection\,\nCloud Services & Applications\,\nDigital Workflows\, and more\n\nFor more information on the overall AWISE.World Innovation Summit & EXPO program visit the website https://AWISE.World or to register to attend the Innovation Summit visit the event booking page. \nIf you are interested in being and exhibitor please fill out the expression of interest for or contact us at TheHUB on 02 6051 5657.
URL:https://thehub.t1.net.au/event/nedif-2019-business-technology-expo/
LOCATION:The Cube Wodonga\, 118 Hovell Street\, Wodonga\, Victoria\, 3690\, Australia
CATEGORIES:NEDIF 2019
ATTACH;FMTTYPE=image/jpeg:https://thehub.t1.net.au/wp-content/uploads/2019/03/NEDIF2019_TEXPO_logotemp-300x183.jpg
ORGANIZER;CN="Business%20Wodonga":MAILTO:main@businesswodonga.com.au
END:VEVENT
END:VCALENDAR