BEGIN:VCALENDAR
VERSION:2.0
PRODID:-//TheHUB Online - ECPv5.4.0.1//NONSGML v1.0//EN
CALSCALE:GREGORIAN
METHOD:PUBLISH
X-WR-CALNAME:TheHUB Online
X-ORIGINAL-URL:https://thehub.t1.net.au
X-WR-CALDESC:Events for TheHUB Online
BEGIN:VTIMEZONE
TZID:Australia/Melbourne
BEGIN:STANDARD
TZOFFSETFROM:+1100
TZOFFSETTO:+1000
TZNAME:AEST
DTSTART:20200404T160000
END:STANDARD
BEGIN:DAYLIGHT
TZOFFSETFROM:+1000
TZOFFSETTO:+1100
TZNAME:AEDT
DTSTART:20201003T160000
END:DAYLIGHT
END:VTIMEZONE
BEGIN:VEVENT
DTSTART;TZID=Australia/Melbourne:20200903T103000
DTEND;TZID=Australia/Melbourne:20200903T113000
DTSTAMP:20260425T103705
CREATED:20200817T234946Z
LAST-MODIFIED:20201008T070500Z
UID:12492-1599129000-1599132600@thehub.t1.net.au
SUMMARY:AWISE.World - 2020 Innovation Summit (Launch)
DESCRIPTION:As an annual event\, AWISE (or the Albury-Wodonga Innovation Summit & EXPO) provides an opportunity to learn from local and national industry leaders about Innovation in Industry & Technology. Formerly known as the North East Digital Innovation Festival\, AWISE is in its fourth year. \nJoin us in 2020 to discover and explore as a business owner\, manager\, or budding entrepreneur: \n\nWhat should you be thinking about? – Strategic Thinking\nWhat changes could you be implementing? – Operational Opportunities\nHow can you make changes? – Practical Workshops\n\n  \nUnfortunately due to the Victorian lock down and social distancing restrictions there will be no physical event (or EXPO) during the formal DIFVic program but we’re still keen to continue the conversation. \nWe’re planning to start the conversation on Thursday 3rd Sept\, which is the Victorian Government’s Digital Innovation Futures (DIF) “Future of Work” day\, with a session on Optimistic thinking from last year’s MC Victor Perton (The Optimism Man). \nFrom there\, instead of running a full day event we are now running a series of weekly sessions from the 21st October through to late December. \nFor more information on the Innovation Summit program visit https://AWISE.world or contact us at TheHUB. \nThanks to support from our sponsors including the Victorian Government’s #DIFVic program\, whilst workshops may attract a small fee to assist in covering any out of pocket expenses for delivery the program/content\, the majority of the sessions will be most available free of charge. \nAre you keen to more than just attend? If you’re interested in getting involved and helping to make the AWISE.World events and the regional NEDIF program for 2020 the best year yet\, please contact us at TheHUB on 02 6051 5657. \n 
URL:https://thehub.t1.net.au/event/awise-world-innovation-summit/
LOCATION:TheHUB Wodonga\, 15 High Street\, Wodonga\, Victoria\, 3690\, Australia
CATEGORIES:AWISE 2020
ATTACH;FMTTYPE=image/png:https://thehub.t1.net.au/wp-content/uploads/2019/07/NEDIFBulb_transparent_72dpi.png
ORGANIZER;CN="TheHUB%20Wodonga":MAILTO:contactus@rbhubs.com.au
END:VEVENT
END:VCALENDAR