BEGIN:VCALENDAR
VERSION:2.0
PRODID:-//TheHUB Online - ECPv5.4.0.1//NONSGML v1.0//EN
CALSCALE:GREGORIAN
METHOD:PUBLISH
X-WR-CALNAME:TheHUB Online
X-ORIGINAL-URL:https://thehub.t1.net.au
X-WR-CALDESC:Events for TheHUB Online
BEGIN:VTIMEZONE
TZID:Australia/Melbourne
BEGIN:STANDARD
TZOFFSETFROM:+1100
TZOFFSETTO:+1000
TZNAME:AEST
DTSTART:20190406T160000
END:STANDARD
BEGIN:DAYLIGHT
TZOFFSETFROM:+1000
TZOFFSETTO:+1100
TZNAME:AEDT
DTSTART:20191005T160000
END:DAYLIGHT
END:VTIMEZONE
BEGIN:VEVENT
DTSTART;TZID=Australia/Melbourne:20190904T123000
DTEND;TZID=Australia/Melbourne:20190904T143000
DTSTAMP:20260425T123103
CREATED:20190825T170417Z
LAST-MODIFIED:20190825T171220Z
UID:1972-1567600200-1567607400@thehub.t1.net.au
SUMMARY:AWISE.World - Facebook Workshops
DESCRIPTION:On Wednesday 4th September Melissa Westcott (Facebook Community Trainer) will be visiting Wodonga to deliver some powerful sessions on Digital Marketing and how to promote your business\, association\, or group online. \nThese workshops are being run at the AWISE.World Innovation Summit & EXPO as part of NEDIF 2019. For more information on the other events running as part of AWISE.World or to book tickets for the Innovation Summit (which includes these workshops) please Visit Here \nAbout the Workshops\nThe following is a summary of the Facebook Workshops available at The Cube Wodonga on Wednesday 4th September. \nIntroduction to Online Marketing\nAn introduction to the importance of online marketing and key things to define when creating a Page\, thinking about posts and driving customer engagement. This includes an overview of business objectives\, target audience and defining a business story.\nDuration: 45 minutes  \nGetting Creative with Your Mobile\nCreating impactful visuals for your business helps you cut through the noise and captures the attention of customers. This workshop focuses on some simple principles for creating engaging content\, provides some practical creative tips and tools and explores how Instagram and Facebook differ.\nDuration: 45 minutes  \nGrow Your Business with Facebook\nLearn the difference between paid and organic activity\, and the basics of how to setup up a campaign in the Facebook Ads Manager. \nDuration: 30 minutes  \nAbout Melissa Westcott – Facebook Community Trainer and Owner TM3 Training Solutions\nAs the Founder and Managing Director of Big On Shoes which she started in 2009\, Melissa grew the business from a small home-based online store to a national e-commerce store for women looking for shoes that fit as well as two retail stores in Mackay and Moranbah. \nA true believer in giving back\, Melissa supports other small businesses in finding their feet in business through TM3 Training Solutions as well as working on a range of programs across regional Australia to ensure continued economic development to help the community and business find stability through the good and bad times.
URL:https://thehub.t1.net.au/event/awise-world-facebook-workshops/
LOCATION:The Cube Wodonga\, 118 Hovell Street\, Wodonga\, Victoria\, 3690\, Australia
CATEGORIES:Business Process,Business Technology,NEDIF,NEDIF 2019
ATTACH;FMTTYPE=image/png:https://thehub.t1.net.au/wp-content/uploads/2019/08/NEDIF2019_FacebookWorkshopsMelissaWestcott.png
ORGANIZER;CN="North%20East%20Digital%20Innovation%20Festival":MAILTO:innovate@nedif.info
END:VEVENT
END:VCALENDAR