BEGIN:VCALENDAR
VERSION:2.0
PRODID:-//TheHUB Online - ECPv5.4.0.1//NONSGML v1.0//EN
CALSCALE:GREGORIAN
METHOD:PUBLISH
X-WR-CALNAME:TheHUB Online
X-ORIGINAL-URL:https://thehub.t1.net.au
X-WR-CALDESC:Events for TheHUB Online
BEGIN:VTIMEZONE
TZID:Australia/Melbourne
BEGIN:STANDARD
TZOFFSETFROM:+1100
TZOFFSETTO:+1000
TZNAME:AEST
DTSTART:20200404T160000
END:STANDARD
BEGIN:DAYLIGHT
TZOFFSETFROM:+1000
TZOFFSETTO:+1100
TZNAME:AEDT
DTSTART:20201003T160000
END:DAYLIGHT
END:VTIMEZONE
BEGIN:VEVENT
DTSTART;TZID=Australia/Melbourne:20201209T103000
DTEND;TZID=Australia/Melbourne:20201209T113000
DTSTAMP:20260425T085022
CREATED:20201202T041022Z
LAST-MODIFIED:20201204T001335Z
UID:18185-1607509800-1607513400@thehub.t1.net.au
SUMMARY:AWISE 2020 - Why digital matters more than ever
DESCRIPTION:Session No.8 – Why digital matters more than ever \nAs our final session for 2020\, our guest speaker Andrew Charitou will look at how digital has changed\, and continues to change\, the opportunity for transformation in Australian business. He will also provide an overview of the recently announced NBN Business Fibre initiative and the opportunities it presents\, particularly to regional businesses. \nJoin us for a coffee\, a does of optimism\, and a look at how businesses can leverage broadband internet services to pivot and evolve their competitiveness on a global stage. \nThanks to our sponsors this will be a FREE event. \nSession Info: \n[zoom_api_link meeting_id=”98060913404″ link_only=”no”] \nSession Presenter:  \n \nPresenter: Andrew Charitou\, National Manager ICT Channel at NBNCo \nAndrew has extensive experience in B2B ICT sales channels and in his role as the National Manager for the ICT Channel at NBNCo he works to help providers and businesses understand the opportunity that digital and growing availability of broadband internet services across Australia represents for businesses. \nSession Sponsor: \nNBN Co Limited\, known as simply NBN\, is a publicly-owned corporation of the Australian Government\, tasked to design\, build and operate Australia’s “National Broadband Network” and provide a wholesale broadband service to the retail (end customer) service provider market. As 2020 draws to a close the initial rollout of the National Broadband Network is coming to a close and NBN is now moving into a phase of enhancement and improvement of services. \nAbout AWISE \nAWISE (Albury-Wodonga Innovation Summit & EXPO) is an annual event hosted from Wodonga in North East Victoria to explore\, celebrate\, and learn about advancements in Innovation locally\, nationally\, and globally. \nIn previous years we have run a full day event bringing together industry\, business\, and education institutions; however\, due to the present lock downs and social distancing\, we are planning to run the program over a series of webinars and workshops throughout the months of October and December. For more info on the program please visit here: https://awise.world
URL:https://thehub.t1.net.au/event/awise-2020-why-digital-matters-more-than-ever/
CATEGORIES:AWISE 2020,NEDIF
ATTACH;FMTTYPE=image/jpeg:https://thehub.t1.net.au/wp-content/uploads/2020/12/NBNLightblub_updated.jpg
END:VEVENT
END:VCALENDAR