BEGIN:VCALENDAR
VERSION:2.0
PRODID:-//TheHUB Online - ECPv5.4.0.1//NONSGML v1.0//EN
CALSCALE:GREGORIAN
METHOD:PUBLISH
X-WR-CALNAME:TheHUB Online
X-ORIGINAL-URL:https://thehub.t1.net.au
X-WR-CALDESC:Events for TheHUB Online
BEGIN:VTIMEZONE
TZID:Australia/Melbourne
BEGIN:STANDARD
TZOFFSETFROM:+1100
TZOFFSETTO:+1000
TZNAME:AEST
DTSTART:20200404T160000
END:STANDARD
BEGIN:DAYLIGHT
TZOFFSETFROM:+1000
TZOFFSETTO:+1100
TZNAME:AEDT
DTSTART:20201003T160000
END:DAYLIGHT
END:VTIMEZONE
BEGIN:VEVENT
DTSTART;TZID=Australia/Melbourne:20201125T103000
DTEND;TZID=Australia/Melbourne:20201125T113000
DTSTAMP:20260425T085331
CREATED:20201118T034641Z
LAST-MODIFIED:20201124T192453Z
UID:17380-1606300200-1606303800@thehub.t1.net.au
SUMMARY:AWISE 2020 - The future of Robots in the Workplace
DESCRIPTION:Session No.6 – the future of Robots in the Workplace \nMany people fear that robots or full automation may someday take their jobs\, and others argue this is simply not the case and that Robots have the potential to bring more advantages than disadvantages to the workplace. \nWhat are the benefits of robotics? Safety\, Speed\, Consistency\, Perfection\, Productivity. What about Job Creation and Happier Employees? \nJoin us on Wednesday 25th November @ 10:30am to hear from Nicci Rossouw\, Funder and CEO of Exaptec on what to expect from Robots in your future workplace. \nThanks to our sponsors this will be a FREE event. Join us via ZOOM here: Click to Join Session \nSession Presenter:  \n \nNicci Rossouw\, Founder and CEO of Exaptec \nNicci Rossouw is a robotics solution innovator and disrupter and was listed in among the “30 women in Robotics that you need to know about” \nIn her own words\, Nicci is a “Specialist in robotics automation solution design and delivery using Robotics as a Service as a business model. Specialist in client engagement and passionate in delivering the highest quality of service that unlocks high value ROI for enterprises. I am a thought leader in the application of Robotics technology and how we as humans interact with robots in a social workplace context. I strongly believe that robotic automation will deliver a profound positive difference to people’s lives. \nAbout Robots & Robotics : \nThe concept of creating robots that can operate autonomously dates back to classical times\, but research into the functionality and potential uses of robots did not grow substantially until the 20th century. Today\, robotics is a rapidly growing field\, as technological advances continue; researching\, designing\, and building new robots serve various practical purposes\, whether domestically\, commercially\, or militarily. \nRobotics involves design\, construction\, operation\, and use of robots. The goal of robotics is to design intelligent machines that can help and assist humans in their day-to-day lives and keep everyone safe. Robotics draws on the achievement of information engineering\, computer engineering\, mechanical engineering\, electronic engineering and others. Robotics develops machines that can substitute for humans and replicate human actions. \nRobots can be used in many situations and for many purposes\, but today many are used in dangerous environments (including inspection of radioactive materials\, bomb detection and deactivation)\, manufacturing processes\, or where humans cannot survive (e.g. in space\, underwater\, in high heat\, and clean up and containment of hazardous materials and radiation). \n \nAbout AWISE \nAWISE (Albury-Wodonga Innovation Summit & EXPO) is an annual event hosted from Wodonga in North East Victoria to explore\, celebrate\, and learn about advancements in Innovation locally\, nationally\, and globally. \nIn previous years we have run a full day event bringing together industry\, business\, and education institutions; however\, due to the present lock downs and social distancing\, we are planning to run the program over a series of webinars and workshops throughout the months of October and December. For more info on the program please visit here: https://awise.world \nSession Details: \n[zoom_api_link meeting_id=”91477576560″ link_only=”no”]
URL:https://thehub.t1.net.au/event/awise-2020-the-future-of-robots-in-the-workplace/
LOCATION:TheHUB Wodonga\, 15 High Street\, Wodonga\, Victoria\, 3690\, Australia
CATEGORIES:AWISE 2020,NEDIF
ATTACH;FMTTYPE=image/jpeg:https://thehub.t1.net.au/wp-content/uploads/2020/11/NicciRossouw_43498_Large.jpeg
ORGANIZER;CN="AWISE%20Innovation%20Summit":MAILTO:innovate@awise.world
END:VEVENT
END:VCALENDAR