BEGIN:VCALENDAR
VERSION:2.0
PRODID:-//TheHUB Online - ECPv5.4.0.1//NONSGML v1.0//EN
CALSCALE:GREGORIAN
METHOD:PUBLISH
X-WR-CALNAME:TheHUB Online
X-ORIGINAL-URL:https://thehub.t1.net.au
X-WR-CALDESC:Events for TheHUB Online
BEGIN:VTIMEZONE
TZID:Australia/Melbourne
BEGIN:STANDARD
TZOFFSETFROM:+1100
TZOFFSETTO:+1000
TZNAME:AEST
DTSTART:20200404T160000
END:STANDARD
BEGIN:DAYLIGHT
TZOFFSETFROM:+1000
TZOFFSETTO:+1100
TZNAME:AEDT
DTSTART:20201003T160000
END:DAYLIGHT
END:VTIMEZONE
BEGIN:VEVENT
DTSTART;TZID=Australia/Melbourne:20201111T103000
DTEND;TZID=Australia/Melbourne:20201111T113000
DTSTAMP:20260425T085345
CREATED:20201105T010831Z
LAST-MODIFIED:20201110T231639Z
UID:16600-1605090600-1605094200@thehub.t1.net.au
SUMMARY:AWISE 2020 – Emerging uses of AI in Commerce and Community
DESCRIPTION:Session No.4 – Emerging uses of AI in business \nWhat are the emerging uses of AI in commerce and community? How are they being adopted\, what are the challenges and what are the social and ethical impacts? \nJoin us on Wednesday 11th November @ 10:30am to hear from Henry Dobson\, the Founding Director of The Institute of Technological Ethics and our panel (Andry & Dev) on how AI adoption is evolving and what we can expect in the years ahead. \nThanks to our sponsors this will be a FREE event. \nAbout the Artificial Intellicence (AI): \nBack in the 1950s\, the fathers of the field Minsky and McCarthy\, described Artificial Intelligence (AI) as any task performed by a program or a machine that\, if a human carried out the same activity\, we would say the human had to apply intelligence to accomplish the task. \nAI systems will typically demonstrate at least some of the following behaviours associated with human intelligence: planning\, learning\, reasoning\, problem solving\, knowledge representation\, perception\, motion\, and manipulation and\, to a lesser extent\, social intelligence and creativity. \nSession Presenter:  \n \nHenry Dobson\, Founding Director of The Institute of Technological Ethics \nHenry has a rich background in Arts\, Philosophy\, and Ethics. He is currently undertaking a doctorate in Applied and Professional Ethics with the University of Melbourne. As an expert in the field Henry has a great insight into the future of AI and it’s any But more than anything else\, I like being outside in the sunlight\, breathing fresh air\, immersed in nature\, along side family and friends\, laughing\, conversing and enjoying the simple things in life. \n  \nSession Panellists: \nAndry Rakotonirainy\, Director of CARRS-Q @ QUT \nProfessor Rakotonirainy’s career spans more than 20 years of computer science experience\, and he has spent the last 10 years of his career working in the Intelligent Transport Systems (ITS)\, human factors and road/rail safety field as a researcher\, supervisor\, mentor and manager. Andry’s team is at the leading edge of what is happening in the areas of AI & Automation in road and rail safety. \n  \n  \nDev Mookerje\, CTO of Red Hat Synergy Office (part of IBM) \nDev is a hands-on technology executive with nearly two decades of experience in architecting client solutions and is the technical leader for the IBM and Red Hat Synergy team in Asia Pacific. Dev brings a wealth of practical experience to the AI discussion and also in working for IBM has exposure to major projects like Watson which is one of the most well known “AI” grunt machines on the planet. \n  \n  \nAbout AWISE \nAWISE (Albury-Wodonga Innovation Summit & EXPO) is an annual event hosted from Wodonga in North East Victoria to explore\, celebrate\, and learn about advancements in Innovation locally\, nationally\, and globally. \nIn previous years we have run a full day event bringing together industry\, business\, and education institutions; however\, due to the present lock downs and social distancing\, we are planning to run the program over a series of webinars and workshops throughout the months of October and December. For more info on the program please visit here: https://awise.world \nSession Details: \n[zoom_api_link meeting_id=”99364458495″ link_only=”no”]
URL:https://thehub.t1.net.au/event/awise-2020-emerging-uses-of-ai-in-commerce-and-community/
LOCATION:TheHUB Wodonga\, 15 High Street\, Wodonga\, Victoria\, 3690\, Australia
CATEGORIES:AWISE 2020
ATTACH;FMTTYPE=image/jpeg:https://thehub.t1.net.au/wp-content/uploads/2020/11/AI_mind_globe.jpeg
ORGANIZER;CN="TheHUB%20Wodonga":MAILTO:contactus@rbhubs.com.au
END:VEVENT
END:VCALENDAR