BEGIN:VCALENDAR
VERSION:2.0
PRODID:-//TheHUB Online - ECPv5.4.0.1//NONSGML v1.0//EN
CALSCALE:GREGORIAN
METHOD:PUBLISH
X-WR-CALNAME:TheHUB Online
X-ORIGINAL-URL:https://thehub.t1.net.au
X-WR-CALDESC:Events for TheHUB Online
BEGIN:VTIMEZONE
TZID:Australia/Melbourne
BEGIN:STANDARD
TZOFFSETFROM:+1100
TZOFFSETTO:+1000
TZNAME:AEST
DTSTART:20200404T160000
END:STANDARD
BEGIN:DAYLIGHT
TZOFFSETFROM:+1000
TZOFFSETTO:+1100
TZNAME:AEDT
DTSTART:20201003T160000
END:DAYLIGHT
END:VTIMEZONE
BEGIN:VEVENT
DTSTART;TZID=Australia/Melbourne:20201104T103000
DTEND;TZID=Australia/Melbourne:20201104T113000
DTSTAMP:20260425T085105
CREATED:20201028T035013Z
LAST-MODIFIED:20201105T002441Z
UID:16144-1604485800-1604489400@thehub.t1.net.au
SUMMARY:AWISE 2020 - Emerging Opportunities in IoT
DESCRIPTION:Session No.3 – Emerging Opportunities in IoT \nSmart Cities\, Smart Utilities\, Smart Agriculture\, all part of the IoT of the future. Easy to say but how can we in practical terms start to leverage the Internet of Things (IoT) in the workplace and society? \nWith the explosive growth of Internet of Things (IoT) uses and adoption\, there are some great opportunities for businesses who join the IoT revolution early. Businesses that who manage to transform and empower themselves through the benefits of IoT could create undeniable competitive advantages. \nJoin us on Wednesday 4th November @ 10:30am to hear about the emerging opportunities in IoT. \nThanks to our sponsors this will be a FREE event. \nSession Presenter:  \n \nTessa Ritchard – Head Of Business Development at NNN Co \nTessa has a rich and extensive history in working with leading technology companies including AAPT\, Telstra\, and Hills Limited. Now as Head of Business Development with NNN Co Tessa is responsible for identifying potential IoT projects and establishing partnerships with local communities and major utilities for their implementation. \nNNN Co have participated in AWISE since the inaugural event in 2017.  Last year Tessa presented last year on IoT and this year she is returning to to provide an update on how IoT is progressing and the emerging opportunities that they present to all Australians. \nAbout the Internet of Things (IoT): \nThe Internet of things (IoT) describes the network of physical objects—“things”—that are embedded with sensors\, software\, and other technologies for the purpose of connecting and exchanging data with other devices and systems over the Internet or a similar inter-connected network. The definition of the Internet of things has evolved due to the convergence of multiple technologies\, real-time analytics\, machine learning\, commodity sensors\, and embedded systems. Traditional fields of embedded systems\, wireless sensor networks\, control systems\, automation (including home and building automation)\, and others all contribute to enabling the Internet of things. \nAbout AWISE \nAWISE (Albury-Wodonga Innovation Summit & EXPO) is an annual event hosted from Wodonga in North East Victoria to explore\, celebrate\, and learn about advancements in Innovation locally\, nationally\, and globally. \nIn previous years we have run a full day event bringing together industry\, business\, and education institutions; however\, due to the present lock downs and social distancing\, we are planning to run the program over a series of webinars and workshops throughout the months of October and December. For more info on the program please visit here: https://awise.world \nSession Details: \n[zoom_api_link meeting_id=”94170884517″ link_only=”no”]
URL:https://thehub.t1.net.au/event/awise-2020-emerging-opportunities-in-iot/
LOCATION:TheHUB Wodonga\, 15 High Street\, Wodonga\, Victoria\, 3690\, Australia
CATEGORIES:AWISE 2020
ATTACH;FMTTYPE=image/jpeg:https://thehub.t1.net.au/wp-content/uploads/2020/10/IoT_Lightbulb_iStock.jpg
ORGANIZER;CN="AWISE%20Innovation%20Summit":MAILTO:innovate@awise.world
END:VEVENT
END:VCALENDAR