BEGIN:VCALENDAR
VERSION:2.0
PRODID:-//TheHUB Online - ECPv5.4.0.1//NONSGML v1.0//EN
CALSCALE:GREGORIAN
METHOD:PUBLISH
X-WR-CALNAME:TheHUB Online
X-ORIGINAL-URL:https://thehub.t1.net.au
X-WR-CALDESC:Events for TheHUB Online
BEGIN:VTIMEZONE
TZID:Australia/Melbourne
BEGIN:STANDARD
TZOFFSETFROM:+1100
TZOFFSETTO:+1000
TZNAME:AEST
DTSTART:20200404T160000
END:STANDARD
BEGIN:DAYLIGHT
TZOFFSETFROM:+1000
TZOFFSETTO:+1100
TZNAME:AEDT
DTSTART:20201003T160000
END:DAYLIGHT
END:VTIMEZONE
BEGIN:VEVENT
DTSTART;TZID=Australia/Melbourne:20201021T103000
DTEND;TZID=Australia/Melbourne:20201021T113000
DTSTAMP:20260425T104137
CREATED:20201012T234027Z
LAST-MODIFIED:20201019T233241Z
UID:15284-1603276200-1603279800@thehub.t1.net.au
SUMMARY:AWISE 2020 - Connecting with your future Customers
DESCRIPTION:Session No.1 – Connecting with your future Customers \nCome take a look at how to grow your business in an increasingly connected\, yet fragmented\, online economy. Drawing on his experience in starting the Melbourne based Cycling Apparel manufacturing business and over two decades of helping build build iconic brands like Country Road\, Drizabone\, and Gazman\, James will deliver a clear five point strategy to building a great brand and connect with your customers. \nThanks to our sponsors this will be a FREE event. Please use the Social Media networks below to share with someone you think may be interested. \nSession Presenter \nJames Hunter – Co-Founder of Hunter Bros Cycling.  \n\n\n\n\nDrawing on his experience in starting the Melbourne based Cycling Apparel manufacturing business and over two decades of helping build build iconic brands like Country Road\, Drizabone\, and Gazman\, James will deliver a clear five point strategy to building a great brand and connect with your customers.\n\n\n\nAbout AWISE \nAWISE (Albury-Wodonga Innovation Summit & EXPO) is an annual event hosted from Wodonga in North East Victoria to explore\, celebrate\, and learn about advancements in Innovation locally\, nationally\, and globally. \nIn previous years we have run a full day event bringing together industry\, business\, and education institutions; however\, due to the present lock downs and social distancing\, we are planning to run the program over a series of webinars and workshops throughout the months of October and December. For more info on the program please visit here: https://awise.world \nSession Details: \n[zoom_api_link meeting_id=”92894144487″ link_only=”no”]
URL:https://thehub.t1.net.au/event/awise-2020-connecting-with-your-future-customers/
LOCATION:TheHUB Wodonga\, 15 High Street\, Wodonga\, Victoria\, 3690\, Australia
CATEGORIES:AWISE 2020
ATTACH;FMTTYPE=image/jpeg:https://thehub.t1.net.au/wp-content/uploads/2020/10/collaboration-togetherness-mindset-ideas.jpeg
ORGANIZER;CN="AWISE%20Innovation%20Summit":MAILTO:innovate@awise.world
END:VEVENT
END:VCALENDAR