BEGIN:VCALENDAR
VERSION:2.0
PRODID:-//TheHUB Online - ECPv5.4.0.1//NONSGML v1.0//EN
CALSCALE:GREGORIAN
METHOD:PUBLISH
X-WR-CALNAME:TheHUB Online
X-ORIGINAL-URL:https://thehub.t1.net.au
X-WR-CALDESC:Events for TheHUB Online
BEGIN:VTIMEZONE
TZID:Australia/Melbourne
BEGIN:STANDARD
TZOFFSETFROM:+1100
TZOFFSETTO:+1000
TZNAME:AEST
DTSTART:20200404T160000
END:STANDARD
BEGIN:DAYLIGHT
TZOFFSETFROM:+1000
TZOFFSETTO:+1100
TZNAME:AEDT
DTSTART:20201003T160000
END:DAYLIGHT
END:VTIMEZONE
BEGIN:VEVENT
DTSTART;TZID=Australia/Melbourne:20201202T103000
DTEND;TZID=Australia/Melbourne:20201202T113000
DTSTAMP:20260425T085110
CREATED:20201125T035940Z
LAST-MODIFIED:20201202T024149Z
UID:17781-1606905000-1606908600@thehub.t1.net.au
SUMMARY:AWISE 2020 - A glimpse into our AR/VR Future
DESCRIPTION:Session No.7 – A glimpse into our AR/VR Future \nAs our world of technology advancement speeds ahead\, the use of Augmented Reality (AR) and Virtual Reality (VR) are shifting from the realms of science fiction into real world applications of research\, education\, communication\, and entertainment to name but a few. What can we expect from AR & VR? Were Google Glasses a false start? Is there a Bionic Eye on the horizon? When will we be released from 2D video into a shared AR VR world with photo real holographic telepresence? \nJoin us on Wednesday 2nd December @ 10:30am to hear from Scott OBrien\, Co-Found and CEO of Humense on what to expect from AR/VR in the years ahead. \nThanks to our sponsors this will be a FREE event. \nSession Details: \nThis session has finished. Did you miss it or would you like to watch it again? \nVisit here for more info: https://awise.world/awise-2020-a-glimpse-into-our-ar-vr-future/ \n \nSession Presenter:  \n \nScott OBrien\, Co-Founder and CEO of Humense \nScott OBrien is an Augmented Reality (AR) and Virtual Reality (VR) commercialization pioneer and has been working with these technologies since 2009. As a Co-Founder and CEO of Humense\, he is working on a project to delivery a holographic sport at stadium scale in AR and VR – for mobile and eyewear. \nAbout Augmented Reality (VR) & Virtual Reality (VR) : \nAugmented reality (AR) is an interactive experience of a real-world environment where the objects that reside in the real world are enhanced by computer-generated perceptual information\, sometimes across multiple sensory modalities whereas Virtual reality (VR) is a simulated experience that can be similar to or completely different from the real world.  Source: Wikipedia \nVirtual Reality (VR) uses a closed headset that places the user in a virtual world where they simply watch what is happening\, like an immersive version of television\, or actually move around (either in the virtual space and/or the real world) to interact with this environment and the people and things within it. AR\, by contrast\, uses a headset or other screen through which the real world is still visible and overlays digital objects on it — anything from a dragon\, to a vase to some sales data — to add context or appear to be part of it. Source: ZDNet \nAbout AWISE \nAWISE (Albury-Wodonga Innovation Summit & EXPO) is an annual event hosted from Wodonga in North East Victoria to explore\, celebrate\, and learn about advancements in Innovation locally\, nationally\, and globally. \nIn previous years we have run a full day event bringing together industry\, business\, and education institutions; however\, due to the present lock downs and social distancing\, we are planning to run the program over a series of webinars and workshops throughout the months of October and December. For more info on the program please visit here: https://awise.world
URL:https://thehub.t1.net.au/event/awise-2020-a-glimpse-into-our-ar-vr-future/
LOCATION:TheHUB Wodonga\, 15 High Street\, Wodonga\, Victoria\, 3690\, Australia
CATEGORIES:AWISE 2020,NEDIF
ATTACH;FMTTYPE=image/jpeg:https://thehub.t1.net.au/wp-content/uploads/2020/11/ARandVRHoloScaled.jpeg
ORGANIZER;CN="AWISE%20Innovation%20Summit":MAILTO:innovate@awise.world
END:VEVENT
END:VCALENDAR